BEGIN:VCALENDAR
VERSION:2.0
PRODID:-//YMCA Camp Coniston - ECPv6.15.20//NONSGML v1.0//EN
CALSCALE:GREGORIAN
METHOD:PUBLISH
X-ORIGINAL-URL:https://coniston.org
X-WR-CALDESC:Events for YMCA Camp Coniston
REFRESH-INTERVAL;VALUE=DURATION:PT1H
X-Robots-Tag:noindex
X-PUBLISHED-TTL:PT1H
BEGIN:VTIMEZONE
TZID:America/New_York
BEGIN:DAYLIGHT
TZOFFSETFROM:-0500
TZOFFSETTO:-0400
TZNAME:EDT
DTSTART:20220313T070000
END:DAYLIGHT
BEGIN:STANDARD
TZOFFSETFROM:-0400
TZOFFSETTO:-0500
TZNAME:EST
DTSTART:20221106T060000
END:STANDARD
BEGIN:DAYLIGHT
TZOFFSETFROM:-0500
TZOFFSETTO:-0400
TZNAME:EDT
DTSTART:20230312T070000
END:DAYLIGHT
BEGIN:STANDARD
TZOFFSETFROM:-0400
TZOFFSETTO:-0500
TZNAME:EST
DTSTART:20231105T060000
END:STANDARD
BEGIN:DAYLIGHT
TZOFFSETFROM:-0500
TZOFFSETTO:-0400
TZNAME:EDT
DTSTART:20240310T070000
END:DAYLIGHT
BEGIN:STANDARD
TZOFFSETFROM:-0400
TZOFFSETTO:-0500
TZNAME:EST
DTSTART:20241103T060000
END:STANDARD
END:VTIMEZONE
BEGIN:VEVENT
DTSTART;VALUE=DATE:20231128
DTEND;VALUE=DATE:20231129
DTSTAMP:20260425T220603
CREATED:20231024T154851Z
LAST-MODIFIED:20231024T154851Z
UID:14102-1701129600-1701215999@coniston.org
SUMMARY:DOUBLE your IMPACT on GivingTuesday
DESCRIPTION:On Tuesday\, November 28th gifts to the annual fund will be matched through the generosity of Bar Harbor Bank & Trust. \nCLICK HERE TO DONATE. \nIf you prefer\, you can mail a check with #GivingTuesday in the memo line to have your gift matched!
URL:https://coniston.org/event/double-your-impact-on-givingtuesday/
LOCATION:CA
CATEGORIES:All Events,Alumni
ATTACH;FMTTYPE=image/jpeg:https://coniston.org/wp-content/uploads/2023/10/Giving-Tuesday-Coniston.jpg
END:VEVENT
END:VCALENDAR