BEGIN:VCALENDAR
VERSION:2.0
PRODID:-//YMCA Camp Coniston - ECPv6.15.20//NONSGML v1.0//EN
CALSCALE:GREGORIAN
METHOD:PUBLISH
X-ORIGINAL-URL:https://coniston.org
X-WR-CALDESC:Events for YMCA Camp Coniston
REFRESH-INTERVAL;VALUE=DURATION:PT1H
X-Robots-Tag:noindex
X-PUBLISHED-TTL:PT1H
BEGIN:VTIMEZONE
TZID:America/New_York
BEGIN:DAYLIGHT
TZOFFSETFROM:-0500
TZOFFSETTO:-0400
TZNAME:EDT
DTSTART:20230312T070000
END:DAYLIGHT
BEGIN:STANDARD
TZOFFSETFROM:-0400
TZOFFSETTO:-0500
TZNAME:EST
DTSTART:20231105T060000
END:STANDARD
BEGIN:DAYLIGHT
TZOFFSETFROM:-0500
TZOFFSETTO:-0400
TZNAME:EDT
DTSTART:20240310T070000
END:DAYLIGHT
BEGIN:STANDARD
TZOFFSETFROM:-0400
TZOFFSETTO:-0500
TZNAME:EST
DTSTART:20241103T060000
END:STANDARD
BEGIN:DAYLIGHT
TZOFFSETFROM:-0500
TZOFFSETTO:-0400
TZNAME:EDT
DTSTART:20250309T070000
END:DAYLIGHT
BEGIN:STANDARD
TZOFFSETFROM:-0400
TZOFFSETTO:-0500
TZNAME:EST
DTSTART:20251102T060000
END:STANDARD
END:VTIMEZONE
BEGIN:VEVENT
DTSTART;TZID=America/New_York:20240314T180000
DTEND;TZID=America/New_York:20240314T200000
DTSTAMP:20260425T163817
CREATED:20240201T140041Z
LAST-MODIFIED:20240223T144459Z
UID:14527-1710439200-1710446400@coniston.org
SUMMARY:San Francisco\, CA Event
DESCRIPTION:Join us for a social gathering of fellow Camp Coniston parents\, alumni\, & supporters. Executive Director\, John Tilley and Director of Mission Advancement\, Lindsey Tompkins will be there to share a few stories\, and update you of the things going on at Coniston! \nComplimentary food and drinks will be available. This is an 18+ event. \nPlease RSVP here or to lindsey@coniston.org so we know you are coming.
URL:https://coniston.org/event/san-francisco-ca-event/
LOCATION:The Vault Garden\, 555 Califronia Street\, San Francisco\, 94104\, United States
CATEGORIES:All Events,Alumni
ATTACH;FMTTYPE=image/jpeg:https://coniston.org/wp-content/uploads/2024/01/2024-Event-Graphics-San-Fran.jpg
END:VEVENT
BEGIN:VEVENT
DTSTART;TZID=America/New_York:20240316T140000
DTEND;TZID=America/New_York:20240316T170000
DTSTAMP:20260425T163817
CREATED:20240202T140049Z
LAST-MODIFIED:20240223T144506Z
UID:14095-1710597600-1710608400@coniston.org
SUMMARY:Skirball in Los Angeles\, CA
DESCRIPTION:Join us in Los Angeles where Coniston Ambassador & Alumna\, Jocelyn Tetel will be hosting Conistonians at the Skirball Cultural Center to include a tour of The American Library by Yinka Shonibare CBE RA exhibit!  \nHear from John Tilley and  Lindsey Tompkins about what is happening at Coniston and how improvements are being made so that more kids are able to have a Coniston Experience. Please contact Lindsey with any questions. We look forward to seeing our LA community soon! \nComplimentary food and a cash bar will be available. This is an 18+ event. \nPlease RSVP below.
URL:https://coniston.org/event/la/
LOCATION:Skirball Cultural Center\, 2701 N. Sepulveda Blvd.\, Los Angeles\, CA\, 90049\, United States
CATEGORIES:All Events,Alumni
ATTACH;FMTTYPE=image/jpeg:https://coniston.org/wp-content/uploads/2023/10/LA-Event.jpg
END:VEVENT
BEGIN:VEVENT
DTSTART;TZID=America/New_York:20240322T163000
DTEND;TZID=America/New_York:20240322T183000
DTSTAMP:20260425T163817
CREATED:20240203T140059Z
LAST-MODIFIED:20240223T144514Z
UID:14448-1711125000-1711132200@coniston.org
SUMMARY:Manchester\, NH
DESCRIPTION:Join Nicole Berthiaume and John McNair in Manchester\, NH for an afternoon of catching up with Camp friends and learning about what is happening at Coniston! We look forward to seeing our Manchester community soon! \nComplimentary food and a cash bar will be available. This is an 18+ event. \nPlease RSVP below.
URL:https://coniston.org/event/manchester-nh/
LOCATION:The Goat\, 50 Old Granite St\, Manchester\, NH\, 03101\, United States
CATEGORIES:All Events,Alumni
ATTACH;FMTTYPE=image/jpeg:https://coniston.org/wp-content/uploads/2023/12/Manchester-Event-Graphic.jpg
END:VEVENT
END:VCALENDAR