BEGIN:VCALENDAR
VERSION:2.0
PRODID:-//YMCA Camp Coniston - ECPv6.15.20//NONSGML v1.0//EN
CALSCALE:GREGORIAN
METHOD:PUBLISH
X-WR-CALNAME:YMCA Camp Coniston
X-ORIGINAL-URL:https://coniston.org
X-WR-CALDESC:Events for YMCA Camp Coniston
REFRESH-INTERVAL;VALUE=DURATION:PT1H
X-Robots-Tag:noindex
X-PUBLISHED-TTL:PT1H
BEGIN:VTIMEZONE
TZID:America/New_York
BEGIN:DAYLIGHT
TZOFFSETFROM:-0500
TZOFFSETTO:-0400
TZNAME:EDT
DTSTART:20230312T070000
END:DAYLIGHT
BEGIN:STANDARD
TZOFFSETFROM:-0400
TZOFFSETTO:-0500
TZNAME:EST
DTSTART:20231105T060000
END:STANDARD
BEGIN:DAYLIGHT
TZOFFSETFROM:-0500
TZOFFSETTO:-0400
TZNAME:EDT
DTSTART:20240310T070000
END:DAYLIGHT
BEGIN:STANDARD
TZOFFSETFROM:-0400
TZOFFSETTO:-0500
TZNAME:EST
DTSTART:20241103T060000
END:STANDARD
BEGIN:DAYLIGHT
TZOFFSETFROM:-0500
TZOFFSETTO:-0400
TZNAME:EDT
DTSTART:20250309T070000
END:DAYLIGHT
BEGIN:STANDARD
TZOFFSETFROM:-0400
TZOFFSETTO:-0500
TZNAME:EST
DTSTART:20251102T060000
END:STANDARD
END:VTIMEZONE
BEGIN:VEVENT
DTSTART;TZID=America/New_York:20240404T180000
DTEND;TZID=America/New_York:20240404T200000
DTSTAMP:20260425T150033
CREATED:20240320T130027Z
LAST-MODIFIED:20240326T130441Z
UID:14575-1712253600-1712260800@coniston.org
SUMMARY:Denver\, CO
DESCRIPTION:Join John Tilley and Lindsey Tompkins in Denver\, CO for an evening of ping pong and Asian cuisine\, while catching up with Camp friends and learning about what is happening at Coniston! \nComplimentary food and a cash bar will be available.  \nPlease RSVP below.
URL:https://coniston.org/event/denver-co/
LOCATION:Ace Eat Serve\, 501 E 17th Ave\, Denver\, CO\, 80203\, United States
CATEGORIES:All Events,Alumni
ATTACH;FMTTYPE=image/jpeg:https://coniston.org/wp-content/uploads/2024/01/Denver-Event-Graphic-1.jpg
END:VEVENT
BEGIN:VEVENT
DTSTART;TZID=America/New_York:20240411T180000
DTEND;TZID=America/New_York:20240411T200000
DTSTAMP:20260425T150033
CREATED:20240319T150114Z
LAST-MODIFIED:20240410T154343Z
UID:14522-1712858400-1712865600@coniston.org
SUMMARY:Brooklyn\, NY
DESCRIPTION:Join Nicole Berthiaume\, Lindsey Tompkins\, and Emily Judkins in Brooklyn\, NY for an evening of shuffle board\,  catching up with Camp friends and learning about what is happening at Coniston! We look forward to seeing our NYC community soon! \nFood truck and a cash bar are available. This is a 21+ event. \nPlease RSVP below.
URL:https://coniston.org/event/brooklyn-ny/
LOCATION:Royal Palms\, 514 Union Street\, Brooklyn\, NY 11215
CATEGORIES:All Events,Alumni
ATTACH;FMTTYPE=image/jpeg:https://coniston.org/wp-content/uploads/2024/01/Brooklyn-event-graphic.jpg
END:VEVENT
BEGIN:VEVENT
DTSTART;TZID=America/New_York:20240418T133500
DTEND;TZID=America/New_York:20240418T163500
DTSTAMP:20260425T150033
CREATED:20240318T152802Z
LAST-MODIFIED:20240326T130520Z
UID:14858-1713447300-1713458100@coniston.org
SUMMARY:Coniston at Fenway
DESCRIPTION:Purchase $20 Bleacher Tickets Here\n\nJoin the Coniston Community in the bleachers for a fun-filled afternoon at Fenway while the Boston Red Sox take on the Cleveland Guardians! Deadline to purchase tickets is March 6th.
URL:https://coniston.org/event/coniston-at-fenway/
LOCATION:Fenway Park\, 4 Jersey St\, Boston\, MA 02215\, 4 Jersey St\, Boston\, United States
CATEGORIES:All Events,Alumni
ATTACH;FMTTYPE=image/jpeg:https://coniston.org/wp-content/uploads/2024/02/2024-Event-Graphics-Fenway-4.jpg
END:VEVENT
END:VCALENDAR