BEGIN:VCALENDAR
VERSION:2.0
PRODID:-//YMCA Camp Coniston - ECPv6.15.20//NONSGML v1.0//EN
CALSCALE:GREGORIAN
METHOD:PUBLISH
X-WR-CALNAME:YMCA Camp Coniston
X-ORIGINAL-URL:https://coniston.org
X-WR-CALDESC:Events for YMCA Camp Coniston
REFRESH-INTERVAL;VALUE=DURATION:PT1H
X-Robots-Tag:noindex
X-PUBLISHED-TTL:PT1H
BEGIN:VTIMEZONE
TZID:America/New_York
BEGIN:DAYLIGHT
TZOFFSETFROM:-0500
TZOFFSETTO:-0400
TZNAME:EDT
DTSTART:20240310T070000
END:DAYLIGHT
BEGIN:STANDARD
TZOFFSETFROM:-0400
TZOFFSETTO:-0500
TZNAME:EST
DTSTART:20241103T060000
END:STANDARD
BEGIN:DAYLIGHT
TZOFFSETFROM:-0500
TZOFFSETTO:-0400
TZNAME:EDT
DTSTART:20250309T070000
END:DAYLIGHT
BEGIN:STANDARD
TZOFFSETFROM:-0400
TZOFFSETTO:-0500
TZNAME:EST
DTSTART:20251102T060000
END:STANDARD
BEGIN:DAYLIGHT
TZOFFSETFROM:-0500
TZOFFSETTO:-0400
TZNAME:EDT
DTSTART:20260308T070000
END:DAYLIGHT
BEGIN:STANDARD
TZOFFSETFROM:-0400
TZOFFSETTO:-0500
TZNAME:EST
DTSTART:20261101T060000
END:STANDARD
BEGIN:DAYLIGHT
TZOFFSETFROM:-0500
TZOFFSETTO:-0400
TZNAME:EDT
DTSTART:20270314T070000
END:DAYLIGHT
BEGIN:STANDARD
TZOFFSETFROM:-0400
TZOFFSETTO:-0500
TZNAME:EST
DTSTART:20271107T060000
END:STANDARD
END:VTIMEZONE
BEGIN:VEVENT
DTSTART;VALUE=DATE:20251202
DTEND;VALUE=DATE:20251203
DTSTAMP:20260425T201827
CREATED:20251114T195739Z
LAST-MODIFIED:20251114T195739Z
UID:17370-1764633600-1764719999@coniston.org
SUMMARY:GivingTuesday 2025
DESCRIPTION:GivingTuesday is a global celebration of generosity held each year on the Tuesday after Thanksgiving. It’s a day when people around the world come together to give back\, through donations\, volunteering\, and acts of kindness. \nAt Coniston\, GivingTuesday is one of our major Annual Fund campaigns. It’s a chance to raise funds that help more kids experience the magic of Camp. \nWHY IT MATTERS THIS YEAR\nThis year\, our goal is to raise $40\,000\, which will help send\n15 kids to Camp next summer. That’s 15 lives changed\, 15\nnew friendships formed\, and 15 young people growing into confident\, compassionate leaders. \nEven better? Bar Harbor Bank & Trust is generously matching\nthe first $5\,000 raised\, doubling your impact right from the\nstart! \n 
URL:https://coniston.org/event/givingtuesday-2025/
LOCATION:NH
CATEGORIES:All Events,Alumni
ATTACH;FMTTYPE=image/png:https://coniston.org/wp-content/uploads/2025/11/GT-Event-Page.png
END:VEVENT
BEGIN:VEVENT
DTSTART;TZID=America/New_York:20251205T180000
DTEND;TZID=America/New_York:20251205T200000
DTSTAMP:20260425T201827
CREATED:20251114T193116Z
LAST-MODIFIED:20251223T154754Z
UID:17352-1764957600-1764964800@coniston.org
SUMMARY:Lightscape at Brooklyn Botanic Gardens
DESCRIPTION:Join your Coniston friends at the Brooklyn Botanic Garden’s dazzling Lightscape show! Bring your family\, a friend\, or come solo to celebrate the season in one of NYC’s most magical spots. \nOnce you’ve made your way through the entry gate and onto the trail\, join us at the Lightscape Bar\, our main meet-up spot for the evening. The bar is a cozy\, illuminated area along the path with snacks and beverages available for purchase. It’s a comfortable place to gather\, warm up\, and reconnect with camp friends and families throughout the night. \nClick HERE for more event info and RSVP details!
URL:https://coniston.org/event/brooklyn-botanic-garden-lights-nyc/
LOCATION:Brooklyn Botanic Gardens\, 990 Washington Avenue\, Brooklyn\, 11225\, United States
CATEGORIES:All Events,Alumni
ATTACH;FMTTYPE=image/png:https://coniston.org/wp-content/uploads/2025/11/Lighscape-at-Brooklyn-Botanic-Garden-LP.png
END:VEVENT
BEGIN:VEVENT
DTSTART;TZID=America/New_York:20260218T173000
DTEND;TZID=America/New_York:20260218T193000
DTSTAMP:20260425T201827
CREATED:20260116T203707Z
LAST-MODIFIED:20260116T203707Z
UID:17441-1771435800-1771443000@coniston.org
SUMMARY:San Diego\, CA Meet-up
DESCRIPTION:Come meet up with the Coniston crew on the West Coast! \nLocation TBD \nClick HERE for more event info and RSVP details
URL:https://coniston.org/event/san-diego-2026/
LOCATION:NH
CATEGORIES:All Events,Alumni
ATTACH;FMTTYPE=image/jpeg:https://coniston.org/wp-content/uploads/2026/01/2026-Event-Graphics-Landing-Page.jpg
END:VEVENT
BEGIN:VEVENT
DTSTART;TZID=America/New_York:20260226T180000
DTEND;TZID=America/New_York:20260226T200000
DTSTAMP:20260425T201827
CREATED:20251223T154608Z
LAST-MODIFIED:20251223T161025Z
UID:17413-1772128800-1772136000@coniston.org
SUMMARY:Denver\, CO Meet-up at Happy Camper Pizza
DESCRIPTION:Come grab a slice and join your Coniston friends at Happy Camper Pizza in Denver\, CO! \nClick HERE for more event info and RSVP details
URL:https://coniston.org/event/denver-february-2026/
LOCATION:Happy Camper Pizza\, 3211 N Pecos St\, Denver\, CO\, 80211
CATEGORIES:All Events,Alumni
ATTACH;FMTTYPE=image/png:https://coniston.org/wp-content/uploads/2025/12/Denver-CO-1-scaled.png
END:VEVENT
BEGIN:VEVENT
DTSTART;TZID=America/New_York:20260301T073000
DTEND;TZID=America/New_York:20260301T170000
DTSTAMP:20260425T201827
CREATED:20251114T194239Z
LAST-MODIFIED:20260116T204018Z
UID:17366-1772350200-1772384400@coniston.org
SUMMARY:Sunapee Ski Day
DESCRIPTION:Join your Coniston friends for a day on the slopes! Bring your family\, a friend\, or come solo to make the most of the winter weather. \nClick HERE for more event info and RSVP details \n 
URL:https://coniston.org/event/sunapee-ski-day/
LOCATION:Mount Sunapee\, 1398 Route 103\, Newbury\, NH\, United States
CATEGORIES:All Events,Alumni
ATTACH;FMTTYPE=image/png:https://coniston.org/wp-content/uploads/2025/11/Sunapee-Ski-Day.png
END:VEVENT
BEGIN:VEVENT
DTSTART;TZID=America/New_York:20260326T173000
DTEND;TZID=America/New_York:20260326T193000
DTSTAMP:20260425T201827
CREATED:20251114T201442Z
LAST-MODIFIED:20260116T203426Z
UID:17380-1774546200-1774553400@coniston.org
SUMMARY:Manchester\, NH Meet-up at Harpoon Brewery
DESCRIPTION:Come grab a drink and a bite with your Coniston friends at Harpoon Brewery in Manchester\, NH! \nClick HERE for more event info and RSVP details
URL:https://coniston.org/event/harpoon-manchester/
LOCATION:Harpoon Brewery\, 215 Canal St\, Manchester\, NH\, 03101\, United States
CATEGORIES:All Events,Alumni
ATTACH;FMTTYPE=image/png:https://coniston.org/wp-content/uploads/2025/11/Manchester-NH-scaled.png
END:VEVENT
BEGIN:VEVENT
DTSTART;TZID=America/New_York:20260507T180000
DTEND;TZID=America/New_York:20260507T200000
DTSTAMP:20260425T201827
CREATED:20260415T171817Z
LAST-MODIFIED:20260415T171817Z
UID:17777-1778176800-1778184000@coniston.org
SUMMARY:Los Angeles\, CA Meet-up at All Season Brewing Company
DESCRIPTION:Come grab a drink and a bite with your Coniston friends at All Season Brewing Company in Los Angeles\, CA! \nClick HERE for more event info and RSVP details
URL:https://coniston.org/event/la-meet-up/
LOCATION:All Season Brewing Company\, 800 S La Brea Ave\, Los Angeles\, CA\, 90036\, United States
CATEGORIES:All Events,Alumni
ATTACH;FMTTYPE=image/jpeg:https://coniston.org/wp-content/uploads/2026/04/LA.jpg
END:VEVENT
BEGIN:VEVENT
DTSTART;TZID=America/New_York:20260606T091500
DTEND;TZID=America/New_York:20260606T150000
DTSTAMP:20260425T201827
CREATED:20251114T202958Z
LAST-MODIFIED:20260128T193945Z
UID:17385-1780737300-1780758000@coniston.org
SUMMARY:2026 Volunteer Work Day
DESCRIPTION:Many hands make light work! \nHelp get Camp ready for the summer by making Coniston camper-ready. \nCome for the raking\, stay for the free lunch! \nSIGN UP HERE
URL:https://coniston.org/event/2026-camp-cleanup-day/
LOCATION:YMCA Camp Coniston\, 24 Main Camp Road\, Grantham\, NH\, 03753\, United States
CATEGORIES:All Events,Alumni
ATTACH;FMTTYPE=image/png:https://coniston.org/wp-content/uploads/2025/11/Volunteer-Work-Day.png
END:VEVENT
END:VCALENDAR